BEGIN:VCALENDAR
VERSION:2.0
PRODID:-//wp-events-plugin.com//7.2.3.1//EN
TZID:Europe/Rome
X-WR-TIMEZONE:Europe/Rome
BEGIN:VEVENT
UID:1184@rossetorri.it
DTSTART;TZID=Europe/Rome:20260508T180000
DTEND;TZID=Europe/Rome:20260508T180000
DTSTAMP:20260423T102215Z
URL:https://rossetorri.it/events/sulleducazione-sessuale-nelle-scuole/
SUMMARY:Sull'educazione sessuale nelle scuole
DESCRIPTION:Intervalli\, sguardi sulla scuola\n\nSull'educazione sessuale n
 elle scuole secondarie di primo e secondo grado\n\nRacconti di esperienze 
 e didattica a confronto
ATTACH;FMTTYPE=image/jpeg:https://rossetorri.it/wp-content/uploads/2026/04
 /IMG-20260422-WA0000.jpg
CATEGORIES:Scuola e formazione
LOCATION:Polo Universitario\, v.Montenavale\, Ivrea\, Ivrea\, Torino\, 1001
 5\, Italia
X-APPLE-STRUCTURED-LOCATION;VALUE=URI;X-ADDRESS=v.Montenavale\, Ivrea\, Ivr
 ea\, Torino\, 10015\, Italia;X-APPLE-RADIUS=100;X-TITLE=Polo Universitario
 :geo:0,0
END:VEVENT
BEGIN:VTIMEZONE
TZID:Europe/Rome
X-LIC-LOCATION:Europe/Rome
BEGIN:DAYLIGHT
DTSTART:20260329T030000
TZOFFSETFROM:+0100
TZOFFSETTO:+0200
TZNAME:CEST
END:DAYLIGHT
END:VTIMEZONE
END:VCALENDAR