BEGIN:VCALENDAR
VERSION:2.0
PRODID:-//wp-events-plugin.com//7.2.3.1//EN
TZID:Europe/Rome
X-WR-TIMEZONE:Europe/Rome
BEGIN:VEVENT
UID:1185@rossetorri.it
DTSTART;TZID=Europe/Rome:20260502T160000
DTEND;TZID=Europe/Rome:20260502T160000
DTSTAMP:20260423T122209Z
URL:https://rossetorri.it/events/stefano-unterthiner-i-lupi-e-gli-orsi/
SUMMARY:Stefano Unterthiner\, i lupi e gli orsi
DESCRIPTION:Il fotografo naturalista Stefano Unterthiner è protagonista de
 lla conferenza Storie di lupi e di orsi promossa dall’Associazione Forte
  di Bard in occasione della conclusione della mostra Una finestra sull’A
 rtico visitabile sino a domenica 3 maggio.\nL’appuntamento è per sabato
  2 maggio 2026\, alle ore 16.00\, nella Sala Archi Candidi della fortezza.
 \nUnterthiner racconterà come è nata la mostra Una finestra sull’Artic
 o e presenterà il suo nuovo libro Le montagne del lupo. Dagli Appennini a
 lle Alpi\, dal Parco nazionale d’Abruzzo\, Lazio e Molise a quello del G
 ran Paradiso: un viaggio intenso e appassionato sognando l’incontro con 
 un lupo. Un poetico ritratto delle due aree protette più importanti e ant
 iche d’Italia.
ATTACH;FMTTYPE=image/jpeg:https://rossetorri.it/wp-content/uploads/2026/04
 /unnamed-6.jpg
CATEGORIES:Fotografia
LOCATION:Forte di Bard\, Bard\, Bard\, AO\, Italia
X-APPLE-STRUCTURED-LOCATION;VALUE=URI;X-ADDRESS=Bard\, Bard\, AO\, Italia;X
 -APPLE-RADIUS=100;X-TITLE=Forte di Bard:geo:0,0
END:VEVENT
BEGIN:VTIMEZONE
TZID:Europe/Rome
X-LIC-LOCATION:Europe/Rome
BEGIN:DAYLIGHT
DTSTART:20260329T030000
TZOFFSETFROM:+0100
TZOFFSETTO:+0200
TZNAME:CEST
END:DAYLIGHT
END:VTIMEZONE
END:VCALENDAR