BEGIN:VCALENDAR
VERSION:2.0
PRODID:-//wp-events-plugin.com//7.2.3.1//EN
TZID:Europe/Rome
X-WR-TIMEZONE:Europe/Rome
BEGIN:VEVENT
UID:801@rossetorri.it
DTSTART;TZID=Europe/Rome;VALUE=DATE:20250905
DTEND;TZID=Europe/Rome;VALUE=DATE:20250908
DTSTAMP:20250823T170905Z
URL:https://rossetorri.it/events/san-gaudenzio-book-festival/
SUMMARY:San Gaudenzio book festival
DESCRIPTION:San Gaudenzio book festival\n\nTutti gli eventi sono a ingresso
  gratuito\, per info 3939988875\naggiornamenti programma: www.edizionipedr
 ini.com
ATTACH;FMTTYPE=image/jpeg:https://rossetorri.it/wp-content/uploads/2025/08
 /533553656_24250263191301911_6555421475959061660_n.jpg
CATEGORIES:Libri
END:VEVENT
BEGIN:VTIMEZONE
TZID:Europe/Rome
X-LIC-LOCATION:Europe/Rome
BEGIN:DAYLIGHT
DTSTART:20250330T030000
TZOFFSETFROM:+0100
TZOFFSETTO:+0200
TZNAME:CEST
END:DAYLIGHT
END:VTIMEZONE
END:VCALENDAR