BEGIN:VCALENDAR
VERSION:2.0
PRODID:-//wp-events-plugin.com//7.2.3.1//EN
TZID:Europe/Rome
X-WR-TIMEZONE:Europe/Rome
BEGIN:VEVENT
UID:1186@rossetorri.it
DTSTART;TZID=Europe/Rome:20260502T210000
DTEND;TZID=Europe/Rome:20260502T210000
DTSTAMP:20260424T142810Z
URL:https://rossetorri.it/events/musica-barocca/
SUMMARY:Musica barocca
DESCRIPTION:L’ensemble internazionale Baroque &amp\; more porta lo splend
 ore del barocco europeo in Italia. L’ensemble riunisce musicisti profess
 ionisti che suonano strumenti storici e si dedicano a rendere questo reper
 torio accessibile a un ampio pubblico.\nBaroque &amp\; more\, sotto la dir
 ezione artistica di Luc Ponet\, sarà ospite in Italia all’inizio di mag
 gio per la seconda volta\, con due concerti speciali.\n\nSabato 2 maggio l
 ’ensemble si esibirà nel prestigioso Teatro Giacosa di Ivrea\, seguito 
 da un concerto domenica 3 maggio nella storica Chiesa di San Silvestro Pap
 a a Chiaverano.\n\nSotto il titolo “Nations &amp\; Splendour: The Europe
 an Baroque Orchestra”\, Baroque &amp\; more presenta un programma ricco 
 e variegato che accompagna l’ascoltatore in un viaggio musicale attraver
 so l’Europa barocca. Suite strumentali e opere orchestrali di compositor
 i come Georg Philipp Telemann e Jean-Baptiste Lully fanno rivivere i color
 i e gli stili delle diverse tradizioni europee.\n\nIl programma evolve gra
 dualmente verso una dimensione più espressiva e vocale\, con opere\, tra 
 gli altri\, di Claudio Monteverdi\, Joseph Hector Fiocco e Alessandro Scar
 latti. La combinazione di mezzosoprano ed ensemble crea un intenso momento
  culminante musicale\, in cui emozione e virtuosismo sono al centro. Un ru
 olo speciale è riservato anche alla tromba.\n\ningresso gratuito
ATTACH;FMTTYPE=image/jpeg:https://rossetorri.it/wp-content/uploads/2026/04
 /Affiche_2026_1.jpg
CATEGORIES:Musica
LOCATION:Teatro Giacosa\, Piazza Teatro\, 1\, Ivrea\, Torino\, 10015\, Piem
 onte\, Italia
X-APPLE-STRUCTURED-LOCATION;VALUE=URI;X-ADDRESS=Piazza Teatro\, 1\, Ivrea\,
  Torino\, 10015\, Piemonte\, Italia;X-APPLE-RADIUS=100;X-TITLE=Teatro Giac
 osa:geo:0,0
END:VEVENT
BEGIN:VTIMEZONE
TZID:Europe/Rome
X-LIC-LOCATION:Europe/Rome
BEGIN:DAYLIGHT
DTSTART:20260329T030000
TZOFFSETFROM:+0100
TZOFFSETTO:+0200
TZNAME:CEST
END:DAYLIGHT
END:VTIMEZONE
END:VCALENDAR