BEGIN:VCALENDAR
VERSION:2.0
PRODID:-//wp-events-plugin.com//7.2.3.1//EN
TZID:Europe/Rome
X-WR-TIMEZONE:Europe/Rome
BEGIN:VEVENT
UID:1182@rossetorri.it
DTSTART;TZID=Europe/Rome:20260508T000000
DTEND;TZID=Europe/Rome:20260510T000000
DTSTAMP:20260419T125801Z
URL:https://rossetorri.it/events/mostra-fotografica-uni3/
SUMMARY:Mostra fotografica Uni3
DESCRIPTION:venerdì ore 15-19\n\nsabato e domenica ore 10-19
ATTACH;FMTTYPE=image/jpeg:https://rossetorri.it/wp-content/uploads/2026/04
 /Locandina-mostra-Uni3_2026.jpg
CATEGORIES:Fotografia
LOCATION:Spazio O\, v.Jervis\, Ivrea\, TO\, Italia
X-APPLE-STRUCTURED-LOCATION;VALUE=URI;X-ADDRESS=v.Jervis\, Ivrea\, TO\, Ita
 lia;X-APPLE-RADIUS=100;X-TITLE=Spazio O:geo:0,0
END:VEVENT
BEGIN:VTIMEZONE
TZID:Europe/Rome
X-LIC-LOCATION:Europe/Rome
BEGIN:DAYLIGHT
DTSTART:20260329T030000
TZOFFSETFROM:+0100
TZOFFSETTO:+0200
TZNAME:CEST
END:DAYLIGHT
END:VTIMEZONE
END:VCALENDAR