BEGIN:VCALENDAR
VERSION:2.0
PRODID:-//wp-events-plugin.com//7.2.3.1//EN
TZID:Europe/Rome
X-WR-TIMEZONE:Europe/Rome
BEGIN:VEVENT
UID:1136@rossetorri.it
DTSTART;TZID=Europe/Rome:20260409T103000
DTEND;TZID=Europe/Rome:20260409T180000
DTSTAMP:20260326T174659Z
URL:https://rossetorri.it/events/il-patrimonio-alla-prova-del-cambiamento-
 climatico/
SUMMARY:Il patrimonio alla prova del cambiamento climatico
DESCRIPTION:Prosegue il ciclo di riflessioni dedicato alla gestione e alla 
 tutela del patrimonio architettonico nel sito UNESCO di Ivrea. Dopo l'appu
 ntamento di marzo focalizzato sulla progettazione\, il nuovo convegno "Il 
 patrimonio alla prova del cambiamento climatico. Sguardi | Pratiche | Azio
 ni" sposta l’attenzione sull'emergenza climatica\, intesa non solo come 
 minaccia\, ma come cambio di paradigma radicale per le scelte conservative
  e urbanistiche.\n\nIl Programma dei lavori\n\nLa giornata si articola in 
 due sessioni principali:\nSessione mattutina: dedicata a un’analisi di c
 arattere generale. Esperti di diversi settori illustreranno la complessit
 à del fenomeno climatico e le sue implicazioni globali per la conservazio
 ne dei beni culturali.\nSessione pomeridiana: focalizzata sulla realtà di
  Ivrea. Attraverso il coinvolgimento diretto degli attori locali\, si appr
 ofondiranno le dinamiche di trasformazione e tutela specifiche del Sito.\n
 \nVerso una comunità di patrimonio\nL’obiettivo dell'incontro è genera
 re un dialogo costruttivo tra accademici\, professionisti\, proprietari e 
 la cittadinanza. Al centro del dibattito vi è la necessità di integrare 
 la gestione del sito UNESCO con la vita quotidiana\, le aspirazioni e i bi
 sogni della comunità eporediese. L'intento è superare la separazione tra
  "Sito" e "Città"\, promuovendo una visione del patrimonio come bene comu
 ne e partecipato.\nStrumenti operativi: la "Cassetta degli Attrezzi"\nIl c
 onvegno rappresenta una tappa fondamentale verso la creazione di un percor
 so permanente di condivisione di buone pratiche. In linea con il nuovo Pia
 no di Gestione\, nei prossimi mesi verrà resa disponibile una "cassetta d
 egli attrezzi" tecnico-operativa: un supporto concreto per proprietari e p
 rogettisti impegnati nella conservazione e valorizzazione degli edifici in
 seriti nella Lista del Patrimonio Mondiale.\n\nL’iniziativa è sostenuta
  dalla Città di Ivrea con il contributo del Ministero della Cultura (Fond
 i Legge 77/2006). L'evento si inserisce nelle attività di studio propedeu
 tiche al Piano di Gestione e al Piano Strategico di Conservazione\, confer
 mando il sito di Ivrea quale laboratorio di sintesi tra ricerca scientific
 a ed esperienza sul campo.
ATTACH;FMTTYPE=image/jpeg:https://rossetorri.it/wp-content/uploads/2026/03
 /OK-Patrimonio_cambiamento_climatico_locandina_26mar26.jpg
CATEGORIES:Altro
LOCATION:Polo Universitario\, v.Montenavale\, Ivrea\, Ivrea\, Torino\, 1001
 5\, Italia
X-APPLE-STRUCTURED-LOCATION;VALUE=URI;X-ADDRESS=v.Montenavale\, Ivrea\, Ivr
 ea\, Torino\, 10015\, Italia;X-APPLE-RADIUS=100;X-TITLE=Polo Universitario
 :geo:0,0
END:VEVENT
BEGIN:VTIMEZONE
TZID:Europe/Rome
X-LIC-LOCATION:Europe/Rome
BEGIN:DAYLIGHT
DTSTART:20260329T030000
TZOFFSETFROM:+0100
TZOFFSETTO:+0200
TZNAME:CEST
END:DAYLIGHT
END:VTIMEZONE
END:VCALENDAR