BEGIN:VCALENDAR
VERSION:2.0
PRODID:-//wp-events-plugin.com//7.2.3.1//EN
TZID:Europe/Rome
X-WR-TIMEZONE:Europe/Rome
BEGIN:VEVENT
UID:1188@rossetorri.it
DTSTART;TZID=Europe/Rome:20260427T210000
DTEND;TZID=Europe/Rome:20260427T210000
DTSTAMP:20260424T143618Z
URL:https://rossetorri.it/events/i-nostri-anni/
SUMMARY:I nostri anni
DESCRIPTION:I NOSTRI ANNI\ndi Daniele Gaglianone\nFILM RESTAURATO IN 4K\nAm
 bientato tra memoria e presente\, il film segue due ex partigiani\, Albert
 o e Natalino\, che portano sulle spalle il peso irrisolto della Resistenza
  e decidono\, da anziani\, di confrontarsi con una ferita del passato mai 
 rimarginata. Un racconto intimo sul tempo\, sull’amicizia e sulla violen
 za della storia\, capace di risuonare ancora oggi con sorprendente lucidit
 à.\nIl restauro è stato realizzato dalla Cineteca del Museo del Cinema d
 i Torino grazie a A Season of Classic Films\, iniziativa dell’ACE – As
 sociation des Cinémathèques Européennes sostenuta dal Programma Creativ
 e Europe MEDIA dell’Unione Europea\, che promuove il recupero e la valor
 izzazione del patrimonio filmico europeo.\n\nLunedì 27/04: 21.00 - ingres
 so €6.00\nnell'ambito del progetto CAP - CIRCUITO AUDIOVISIVO PIEMONTE
ATTACH;FMTTYPE=image/jpeg:https://rossetorri.it/wp-content/uploads/2026/04
 /i-nostri-anni.jpg
CATEGORIES:Cinema
LOCATION:Cinema Splendor Boaro\, Via Palestro\, Ivrea\, TO\, Italia
X-APPLE-STRUCTURED-LOCATION;VALUE=URI;X-ADDRESS=Via Palestro\, Ivrea\, TO\,
  Italia;X-APPLE-RADIUS=100;X-TITLE=Cinema Splendor Boaro:geo:0,0
END:VEVENT
BEGIN:VTIMEZONE
TZID:Europe/Rome
X-LIC-LOCATION:Europe/Rome
BEGIN:DAYLIGHT
DTSTART:20260329T030000
TZOFFSETFROM:+0100
TZOFFSETTO:+0200
TZNAME:CEST
END:DAYLIGHT
END:VTIMEZONE
END:VCALENDAR