BEGIN:VCALENDAR
VERSION:2.0
PRODID:-//wp-events-plugin.com//7.2.3.1//EN
TZID:Europe/Rome
X-WR-TIMEZONE:Europe/Rome
BEGIN:VEVENT
UID:1137@rossetorri.it
DTSTART;TZID=Europe/Rome:20260409T210000
DTEND;TZID=Europe/Rome:20260409T210000
DTSTAMP:20260406T171014Z
URL:https://rossetorri.it/events/giuseppe-culicchia-2/
SUMMARY:Giuseppe Culicchia
DESCRIPTION:Giuseppe Culicchia \, in dialogo con Rosanna Turone\, ci parler
 à del suo ultimo libro\n\n"Uah! Vita e opinioni di Franz Zazzi\, gentiluo
 mo" (edito da Mondadori).\n\nUAH! è la confessione irriverente di Franz Z
 azzi\, antieroe eccessivo e magnetico: spacciatore\, ex galeotto e bodygua
 rd di Rocco Siffredi. Vent’anni dopo essere stato trasformato in persona
 ggio da Giuseppe Culicchia\, Zazzi si ribella e racconta la sua verità. I
 n un monologo ruvido e visionario ripercorre una vita tra pornografia\, tr
 affici e fughe in Europa e oltre oceano: Budapest\, Los Angeles\, Torino\,
  Finlandia\, Madrid\, Londra\, Milano. Tra dipendenza\, carcere\, amori e 
 desiderio di redenzione\, emerge una voce comica e tragica\, sboccata e um
 anissima\, in continuo conflitto tra autodistruzione e rinascita.\n\n­Ex 
 libraio\, ha pubblicato oltre trenta libri con i maggiori editori italiani
  ed è tradotto in dieci lingue. Dal suo romanzo Tutti giù per terra (199
 4) è stato tratto l’omonimo film. Tra i suoi titoli: Il paese delle mer
 aviglie (2004)\, Torino è casa mia (2005)\, Brucia la città (2009)\, Sic
 ilia\, o cara (2010)\, Venere in metró (2012)\, Il tempo di vivere con te
  (2021)\, dedicato al cugino Walter Alasia\, La bambina che non doveva pia
 ngere (2023)\, dedicato alla madre di Alasia\, Ada Tibaldi e Uccidere un f
 ascista (2025)\, dedicato a Sergio Ramelli. Ha tradotto fra gli altri Bret
  Easton Ellis\, Mark Twain e Francis Scott Fitzgerald.
ATTACH;FMTTYPE=image/jpeg:https://rossetorri.it/wp-content/uploads/2026/03
 /unnamed-4-1.jpg
CATEGORIES:Libri
LOCATION:Azami libreria\, via quattro martiri 1\, Ivrea\, Torino\, 10015\, 
 Italia
X-APPLE-STRUCTURED-LOCATION;VALUE=URI;X-ADDRESS=via quattro martiri 1\, Ivr
 ea\, Torino\, 10015\, Italia;X-APPLE-RADIUS=100;X-TITLE=Azami libreria:geo
 :0,0
END:VEVENT
BEGIN:VTIMEZONE
TZID:Europe/Rome
X-LIC-LOCATION:Europe/Rome
BEGIN:DAYLIGHT
DTSTART:20260329T030000
TZOFFSETFROM:+0100
TZOFFSETTO:+0200
TZNAME:CEST
END:DAYLIGHT
END:VTIMEZONE
END:VCALENDAR