BEGIN:VCALENDAR
VERSION:2.0
PRODID:-//wp-events-plugin.com//7.2.3.1//EN
TZID:Europe/Rome
X-WR-TIMEZONE:Europe/Rome
BEGIN:VEVENT
UID:1190@rossetorri.it
DTSTART;TZID=Europe/Rome:20260508T183000
DTEND;TZID=Europe/Rome:20260508T183000
DTSTAMP:20260424T192635Z
URL:https://rossetorri.it/events/giorgio-vitari-3/
SUMMARY:Giorgio Vitari
DESCRIPTION:Società Canottieri Sirio (Via Lago Sirio 52\, Ivrea)\n\nLibrer
 ia Mondadori Ivrea e Società Canottieri Sirio\npresentano\n\nGIORGIO VITA
 RI\n\n"IL PROCURATORE E GLI ESORCISMI DI VIA CAPPEL VERDE" (Ed. Neos)\npar
 landone con\nMARILISA PESAVENTO PONZETTI\n\nUn incidente sospetto\, adunat
 e sataniste in una casa torinese dalla fama sinistra\, e poteri occulti pr
 onti a tutto: per Ròtari la verità è un’ombra sfuggente che a qualcun
 o serve rimanga tale.\nIl procuratore Ròtari torna a Torino e si ritrova 
 immerso nell’indagine sulla morte di un dirigente di banca\, avvenuta tr
 a le montagne della Val di Susa\, che pare a prima vista uno sfortunato ev
 ento.\nMa le preoccupazioni dell’avvocato Isotta Fraschini insinuano il 
 dubbio che dietro quella fine ci sia molto di più.\nIl passato della vitt
 ima si rivela più nebuloso del previsto e l’inchiesta sembra condurre v
 erso i rapporti che l’uomo teneva con un gruppo esoterico torinese\, le 
 cui riunioni notturne gettano un’ombra inquietante sul caso.\nRòtari\, 
 affiancato dai suoi collaboratori più fidati\, deve districarsi tra menzo
 gne sapientemente costruite\, silenzi interessati e un potere che agisce l
 ontano dalla legge.\nIn un crescendo di tensione\, il procuratore si trova
  a confrontarsi non solo con la complessità di un caso che coinvolge pers
 onaggi della Torino bene\, alte sfere del potere e figure influenti dell
 ’economia\, ma anche con l’ambiguità dell’animo umano.\nUn romanzo 
 che avvolge il lettore in un’atmosfera cupa e ambigua\, dove la verità 
 sembra celarsi dietro al soprannaturale\, e solo l’indagine con le sue p
 rocedure\, mantiene il senso della realtà in cerca della logica del delit
 to.\n\nGIORGIO VITARI\, torinese\, nato nel 1948\, si è laureato in Giuri
 sprudenza dopo gli studi classici al temibile liceo “Cavour” di Torino
 . Assistente universitario\, ha poi superato l’esame di Stato per svolge
 re la professione di avvocato\; nel 1977 ha vinto il concorso ed è entrat
 o in magistratura. In oltre quarant’anni\, sempre nel ramo penale\, ne h
 a viste tante e tante ne ha fatte: come pretore penale e sostituto procura
 tore a Torino e poi procuratore della Repubblica a Ivrea\, Vercelli e Asti
 . Infine ha lavorato come avvocato generale presso la procura generale di 
 Torino. Sposato\, una figlia\, è in pensione da giugno 2018. Con Morrone 
 editore ha pubblicato Il procuratore e la casa del pavone\, 2021. Con Neos
  edizioni ha pubblicato il suo romanzo d’esordio\, Il vestito nuovo del 
 procuratore\, 2019\, ambientato a Torino all’inizio degli anni ’80\, p
 rimo appuntamento con le indagini del procuratore Francesco Ròtari\, cui 
 sono seguiti Il procuratore e la bella dormiente\, 2020\, ambientato a Ivr
 ea durante il carnevale del 1999 e Il procuratore e il diavolo di Lucedio\
 , 2022\, che porta Ròtari a indagare nel Vercellese. Nel 2024 si torna a 
 Torino con Il procuratore e l'Isotta Fraschini\; Il procuratore e gli esor
 cismi di via Cappel Verde è di recentissima pubblicazione.\n\nNGRESSO LIB
 ERO E GRATUITO\nPer i non soci della Canottieri è richiesta la prenotazio
 ne al Tel della libreria 0125425708
ATTACH;FMTTYPE=image/jpeg:https://rossetorri.it/wp-content/uploads/2026/04
 /unnamed-7.jpg
CATEGORIES:Libri
END:VEVENT
BEGIN:VTIMEZONE
TZID:Europe/Rome
X-LIC-LOCATION:Europe/Rome
BEGIN:DAYLIGHT
DTSTART:20260329T030000
TZOFFSETFROM:+0100
TZOFFSETTO:+0200
TZNAME:CEST
END:DAYLIGHT
END:VTIMEZONE
END:VCALENDAR