BEGIN:VCALENDAR
VERSION:2.0
PRODID:-//wp-events-plugin.com//7.2.3.1//EN
TZID:Europe/Rome
X-WR-TIMEZONE:Europe/Rome
BEGIN:VEVENT
UID:1135@rossetorri.it
DTSTART;TZID=Europe/Rome:20260411T204500
DTEND;TZID=Europe/Rome:20260411T204500
DTSTAMP:20260326T084928Z
URL:https://rossetorri.it/events/gianluigi-nuzzi/
SUMMARY:Gianluigi Nuzzi
DESCRIPTION:LA FABBRICA DEGLI INNOCENTI\ndi Gianluigi Nuzzi\ncon il contrib
 uto di Martina Maltagliati\n\nI gialli tra inediti\, fake news\, trame e s
 peculazioni.\n\nGianluigi Nuzzi sul palco avrà la più semplice delle sce
 nografie (al centro di una redazione minimalista\, gigantografie dei prota
 gonisti e videowall per i contributi) perché il dominus sarà il racconto
 \, supportato da brevi clip e da contributi audio avvolgenti che accompagn
 ano il pubblico nello sviluppo delle storie.\n\nI grandi fatti di cronaca 
 diventano ostaggio di operazione mediatiche spericolate dove la verità ac
 certata\, processuale\, viene prima atomizzata e poi delegittimata. Per co
 lpire e attrarre il telespettatore o il frequentatore di social\, si costr
 uisce\, offre e serializza una tesi di immediata comprensione\, alternativ
 a\, clamorosa\, seducente ma falsa. In un momento di diminuzione cronica d
 ella fiducia nelle istituzioni e di ridotta credibilità dell’informazio
 ne\, si affaccia questo nuovo\, inquietante fenomeno. Peccato siano tutte 
 fake news\, realizzate lungo il tracciato della verosimiglianza. Fate atte
 nzione\, non sono fenomeni a generazione spontanea ma è la fabbrica degli
  innocenti. Una fabbrica che crea innocenti e\, di conseguenza\, addita al
  ludibrio nuovi colpevoli che vengono massacrati a sostegno della verità 
 alternativa. Non solo investigatori e inquirenti\, non solo giudici e magi
 strati ma anche parenti delle vittime\, amici e conoscenti che vengono via
  via indicati come complici delle macchinazioni giudiziarie o veri e propr
 i rei. Le conseguenze sono devastanti: chi subisce la gogna e la delegitti
 mazione sui media\, chi non regge il venticello di essere il mandante dell
 o sterminio della propria famiglia e finisce ricoverato in clinica psichia
 trica\, chi si ammala.\n\nL’omicidio di Chiara Poggi a Garlasco con Albe
 rto Stasi\, l’omicidio di Yara Gambirasio con Massimo Bossetti e la stra
 ge di Erba con Rosa Bazzi e Olindo Romano rappresentano tre casi emblemati
 ci. Sebbene siano stati giudicati con sentenza definitiva sono entrati nel
  mirino della fabbrica degli innocenti\, imbastendo una martellante campag
 na di disinformazione\, di fake news che ha distorto la realtà per demoli
 re le sentenze definitive. Ne esce un quadro falsato dall’assunto inquie
 tante di prove manipolate\, confessioni estorte\, complotti giudiziari por
 tati avanti da giudici\, pubblici ministeri\, investigatori\, psichiatri\,
  tutti uniti dall’intento di portare all’ergastolo innocenti in carcer
 e. E\, di conseguenza\, gli assassini impuniti ancora liberi. E la Fabbric
 a compie una giustizia mediatica rabbrividente\, sostituendosi a quella de
 putata a esprimersi in nome del popolo italiano. Mette al ludibrio chi ha 
 compiuto indagini e processi confermati in ogni ordine e grado\, ne indica
  volto\, nome e cognome\, li ferma per strada in agguati pseudo giornalist
 ici\, li delegittima. E si spinge a fornire verità alternative\, attribue
 ndo omicidi e stragi a estranei\, massacrandoli\, sino ad arrivare a coinv
 olgere i parenti delle vittime\, costituitesi parti civili\, che diventano
  corresponsabili. La verità è ribaltata.\n\nCon immagini e documenti\, t
 estimonianze e ricostruzioni sul palco Gianluigi Nuzzi entrerà in questi 
 tre gialli\, andrà a ricostruire uno ad uno ogni caso\, svelando come lav
 ora la fabbrica degli innocenti tra manipolazioni e omissioni. Dov’è la
  verità? Chi sono i colpevoli\, chi gli innocenti? Nuzzi parte con una te
 si sostenuta da apparenti dati incontrovertibili per portare il pubblico s
 u una posizione per poi ribaltare la scena del crimine\, spazzando via que
 lle che sono solo suggestioni ben mimetizzate e offrendo prove e indizi in
 superabili. Mai fidarsi delle fake news e dei divulgatori interessati\, se
 mpre approfondire dalle fonti più autorevoli\, ovvero atti giudiziari e t
 estimonianze. Nella fabbrica degli innocenti agisce chi per amore del cond
 annato\, chi per visibilità o cinico carrierismo\, chi per speculazioni e
  costituirsi un trampolino politico\, ma i risultati destabilizzanti rient
 rano in un quadro più ampio di complottismo e disinformazione che comprom
 ette la percezione su quanto accade nel nostro Paese\, mina la fiducia e l
 a credibilità dello Stato. Fate attenzione la fabbrica degli innocenti fa
  parte del complesso industriale della disinformazione\, delle operazioni 
 psicologiche\, realtà che ormai agisce a pieno ritmo e investe i gangli d
 ello Stato. I campi sono diversi ma i metodi del terrapiattismo sono gli s
 tessi: verità cospiratorie\, clamorose\, a rapida digeribilità che preve
 dano una reazione di sconcerto\, rabbia verso un “cattivo” istituziona
 le e determinano disaffezione verso il proprio paese. Oggi la giustizia es
 attamente con gli stessi metodi che abbiamo già visto nella sanità/salut
 e (coronavirus)\, in geopolitica (guerra in Ucraina).
ATTACH;FMTTYPE=image/jpeg:https://rossetorri.it/wp-content/uploads/2026/03
 /Gianluigi-Nuzzi-1taglio.jpg
CATEGORIES:Altro
LOCATION:Teatro Giacosa\, Piazza Teatro\, 1\, Ivrea\, Torino\, 10015\, Piem
 onte\, Italia
X-APPLE-STRUCTURED-LOCATION;VALUE=URI;X-ADDRESS=Piazza Teatro\, 1\, Ivrea\,
  Torino\, 10015\, Piemonte\, Italia;X-APPLE-RADIUS=100;X-TITLE=Teatro Giac
 osa:geo:0,0
END:VEVENT
BEGIN:VTIMEZONE
TZID:Europe/Rome
X-LIC-LOCATION:Europe/Rome
BEGIN:DAYLIGHT
DTSTART:20260329T030000
TZOFFSETFROM:+0100
TZOFFSETTO:+0200
TZNAME:CEST
END:DAYLIGHT
END:VTIMEZONE
END:VCALENDAR