BEGIN:VCALENDAR
VERSION:2.0
PRODID:-//wp-events-plugin.com//7.2.3.1//EN
TZID:Europe/Rome
X-WR-TIMEZONE:Europe/Rome
BEGIN:VEVENT
UID:1179@rossetorri.it
DTSTART;TZID=Europe/Rome:20260425T100000
DTEND;TZID=Europe/Rome:20260425T100000
DTSTAMP:20260419T124937Z
URL:https://rossetorri.it/events/festa-della-liberazione-a-lace/
SUMMARY:Festa della Liberazione a Lace
DESCRIPTION:Lace\, Donato (BI)
ATTACH;FMTTYPE=image/jpeg:https://rossetorri.it/wp-content/uploads/2026/04
 /10XncLDd3bx1G627-1.jpg
CATEGORIES:Politica,Società
END:VEVENT
BEGIN:VTIMEZONE
TZID:Europe/Rome
X-LIC-LOCATION:Europe/Rome
BEGIN:DAYLIGHT
DTSTART:20260329T030000
TZOFFSETFROM:+0100
TZOFFSETTO:+0200
TZNAME:CEST
END:DAYLIGHT
END:VTIMEZONE
END:VCALENDAR