BEGIN:VCALENDAR
VERSION:2.0
PRODID:-//wp-events-plugin.com//7.2.3.1//EN
TZID:Europe/Rome
X-WR-TIMEZONE:Europe/Rome
BEGIN:VEVENT
UID:1191@rossetorri.it
DTSTART;TZID=Europe/Rome:20260426T180000
DTEND;TZID=Europe/Rome:20260426T180000
DTSTAMP:20260424T193707Z
URL:https://rossetorri.it/events/federica-lucci/
SUMMARY:Federica Lucci
DESCRIPTION:Al pianoforte di Alice\n\nIl Timbro e Le Mus\n\npresso la Fores
 teria di Loranzè Alto (sita in Via S. Rocco 6/8)\, sarà Federica Lucci a
 d aprire il ciclo di incontri dedicato alla letteratura pianistica con le 
 prime due bellissime partite di Johann Sebastian Bach.\nLa partita nel '70
 0 era quasi sinonimo di suite\, ovvero una raccolta di danze\, ognuna con 
 il proprio stile e ritmo\;
ATTACH;FMTTYPE=image/jpeg:https://rossetorri.it/wp-content/uploads/2026/04
 /download-2.jpg
CATEGORIES:Musica
LOCATION:Foresteria\, Via S. Rocco 6/8\, Loranzè alto\, Italia
X-APPLE-STRUCTURED-LOCATION;VALUE=URI;X-ADDRESS=Via S. Rocco 6/8\, Loranzè
  alto\, Italia;X-APPLE-RADIUS=100;X-TITLE=Foresteria:geo:0,0
END:VEVENT
BEGIN:VTIMEZONE
TZID:Europe/Rome
X-LIC-LOCATION:Europe/Rome
BEGIN:DAYLIGHT
DTSTART:20260329T030000
TZOFFSETFROM:+0100
TZOFFSETTO:+0200
TZNAME:CEST
END:DAYLIGHT
END:VTIMEZONE
END:VCALENDAR