BEGIN:VCALENDAR
VERSION:2.0
PRODID:-//wp-events-plugin.com//7.2.3.1//EN
TZID:Europe/Rome
X-WR-TIMEZONE:Europe/Rome
BEGIN:VEVENT
UID:1138@rossetorri.it
DTSTART;TZID=Europe/Rome:20260403T213000
DTEND;TZID=Europe/Rome:20260403T213000
DTSTAMP:20260331T122252Z
URL:https://rossetorri.it/events/adult-matters/
SUMMARY:Adult matters
DESCRIPTION:alla serata di CONTRO del 3 aprile allo ZACsi aggiungono anche 
 i @garagebagarre e i @frenesiofficial (quest'ultimi grazie alla partnershi
 p con Rockit.it / RockitPRO).\n I Frenesi\, freschi dell'uscita del nuovo
  EP "Ancora Cinque Minuti" con cui hanno aggiunto a testi sociali\, politi
 ci e viscerali e sonorità alternative\, post-rock e cantautorali\, nuovi 
 suoni ed esperimenti che hanno affinato il sound del progetto e che presen
 teranno sul palco dello ZAC da una parte\, e i local heroes Garage Bagarre
  dall'altra\, che fanno della loro miscela di garage rock anni ’60\, sur
 f\, blues e psichedelia senza tempo il mix perfetto da ballare\, urlare e 
 sudare.
ATTACH;FMTTYPE=image/jpeg:https://rossetorri.it/wp-content/uploads/2026/03
 /649356153_1245856690858362_8486525482123656375_n.jpg
CATEGORIES:Musica
LOCATION:Zac!\, Via Dora Baltea\, 40b\, Ivrea\, Italia
X-APPLE-STRUCTURED-LOCATION;VALUE=URI;X-ADDRESS=Via Dora Baltea\, 40b\, Ivr
 ea\, Italia;X-APPLE-RADIUS=100;X-TITLE=Zac!:geo:0,0
END:VEVENT
BEGIN:VTIMEZONE
TZID:Europe/Rome
X-LIC-LOCATION:Europe/Rome
BEGIN:DAYLIGHT
DTSTART:20260329T030000
TZOFFSETFROM:+0100
TZOFFSETTO:+0200
TZNAME:CEST
END:DAYLIGHT
END:VTIMEZONE
END:VCALENDAR