BEGIN:VCALENDAR
VERSION:2.0
PRODID:-//wp-events-plugin.com//7.2.3.1//EN
TZID:Europe/Rome
X-WR-TIMEZONE:Europe/Rome
BEGIN:VEVENT
UID:387@rossetorri.it
DTSTART;TZID=Europe/Rome:20241012T100000
DTEND;TZID=Europe/Rome:20241013T180000
DTSTAMP:20241008T074636Z
URL:https://rossetorri.it/events/42329/
SUMMARY:Giornate FAI a Ivrea e Lanzo
DESCRIPTION:Sabato 12 e domenica 13 ottobre dalle 10 alle 18 (ultimo ingres
 so 17.30)\n\nLa Delegazione FAI di Ivrea e Canavese e il Gruppo Giovani of
 frono ai visitatori delle Giornate FAI di Autunno 2024 la visita del Caste
 llo di Ivrea riaperto al pubblico dopo diversi anni di chiusura per restau
 ro\, monumento simbolo della città e la Chiesa di San Bernardino aggiunto
 si al patrimonio del FAI nel 2023. Sempre a Ivrea sarà possibile visitare
 \, guidati dagli Apprendisti Ciceroni\, la Cattedrale\, il Museo Diocesano
  e le Chiese di San Gaudenzio e San Nicola da Tolentino.\n\nInoltre\, il G
 ruppo FAI di Cirié e Lanzo sabato 5 ottobre presso la Cappella San Giusep
 pe presenta alle ore 10 i luoghi aperti a Lanzo Torinese. Saranno visitabi
 li Casa Balbo\, situata nel borgo antico\, la Chiesa di Santa Maria del Bo
 rgo\, la Chiesa di San Pietro in Vincoli\, la Chiesa di Santa Croce e il M
 useo dell’utensileria Silmax.\nCome sempre\, è imprescindibile la colla
 borazione con le Amministrazioni e i Sindaci di Ivrea e Lanzo Torinese e l
 e associazioni locali. Tutte le visite sono curate come tradizione dagli "
 Apprendisti Ciceroni"\, cioè studenti del Liceo Classico Linguistico Stat
 ale "C. Botta"\, del Liceo Scientifico Statale "A. Gramsci" di Ivrea\, del
 l’Istituto di Istruzione Superiore "XXV Aprile - Faccio" di Cuorgnè e C
 astellamonte\, dell’Istituto di Istruzione Superiore "A. Moro" di Rivaro
 lo Canavese e dell’Istituto di Istruzione Superiore “F. Albert” di L
 anzo Torinese\, a cui la Delegazione estende un particolare ringraziamento
 . Saranno affiancati dai volontari locali che si ringraziamo per la fattiv
 a disponibilità.\n\nGli orari di apertura:\nIvrea San Bernardino\, Museo 
 Diocesano\, San Gaudenzio\, San Nicola: sabato 12 ottobre e domenica 13 ot
 tobre dalle 10 alle 18\, ultimo ingresso 17.30\nIvrea Castello: domenica 1
 3 ottobre dalle 10 alle 18\, ultimo ingresso 17.30\nIvrea Cattedrale: saba
 to 12 ottobre 10 - 18 e domenica 13 dalle 12 alle 17\, ultimo ingresso 16.
 30\nLanzo Casa Balbo: sabato 12 ottobre 14.30 - 18 e domenica 13 ottobre 1
 0 - 13 e 14 - 18\nLanzo Chiesa Di Santa Maria del Borgo: sabato 12 ottobre
  14.30 - 18 e domenica 13 ottobre 10 - 13 e 14-18\nLanzo Chiesa Di San Pie
 tro In Vincoli: sabato 12 14.30 - 17 e domenica 13 ottobre: 11 - 13 e 14 -
  17\nLanzo Chiesa Di Santa Croce: sabato 12 ottobre 14.30 - 18 e domenica 
 13 ottobre: 10 - 13 e 14 - 19\nLanzo Museo Silmax: sabato 12 ottobre: 9 - 
 12.30
ATTACH;FMTTYPE=image/jpeg:https://rossetorri.it/wp-content/uploads/2024/10
 /unnamed.png
CATEGORIES:Arte
END:VEVENT
BEGIN:VTIMEZONE
TZID:Europe/Rome
X-LIC-LOCATION:Europe/Rome
BEGIN:DAYLIGHT
DTSTART:20240331T030000
TZOFFSETFROM:+0100
TZOFFSETTO:+0200
TZNAME:CEST
END:DAYLIGHT
END:VTIMEZONE
END:VCALENDAR