BEGIN:VCALENDAR
VERSION:2.0
PRODID:-//wp-events-plugin.com//7.2.3.1//EN
TZID:Europe/Rome
X-WR-TIMEZONE:Europe/Rome
BEGIN:VEVENT
UID:1183@rossetorri.it
DTSTART;TZID=Europe/Rome:20260425T173000
DTEND;TZID=Europe/Rome:20260425T173000
DTSTAMP:20260419T130532Z
URL:https://rossetorri.it/events/25-aprile-allo-zac/
SUMMARY:25 aprile allo Zac
DESCRIPTION:PROGRAMMA DELLA GIORNATA DEL 25 APRILE\nDOPO LE INIZIATIVE ISTI
 TUZIONALI\n\n一 presentazione mostra Noi scriviam la nuova storia \nsaba
 to 25 aprile h.17.30\ncon la partecipazione di A.N.P.I. di Torre Pellice\,
  A.N.P.I. di Ivrea\, Comune di Ivrea\, Consulta Giovani di Ivrea\, ZAC! Zo
 ne Attive Cittadinanza.\nCuratore della mostra: Gabriele Fumero\, grafico 
 e tipografico\n\n一 performance a cura di Consulta Giovani\nUna macchina 
 da scrivere: mezzo di diffusione di stampa clandestina\, protagonista dell
 a resistenza in Val Pellice.\nL’allestimento del container prevede il po
 sizionamento di una macchina da scrivere appoggiata su un tavolo: uno stru
 mento localizzato in modo semplice all’interno di un ambiente racchiuso.
 \nLa macchina da scrivere è stata protagonista della diffusione di notizi
 e partigiane clandestine\, anch’essa elemento presente nella documentazi
 one registrata nelle fotografie e scritture della mostra.\nSvolgere l’az
 ione partecipata e collettiva\, come veicolo di protagonismo per i parteci
 panti\, ha l’intento di modernizzare la riflessione: l’iniziativa port
 a lontano\, la scrittura meccanica rappresenta l’elemento insito di ribe
 llione\, toglie dal contesto digitale\, simultaneo\, sistema virtuale che 
 è attentato alla libertà.\n\n一 festa e musica dal vivo\nh.18.00\nDj se
 t di Pietro Alfieri\n\nh.21.00\nSenza coloranti aggiunti\nFunky Club 
ATTACH;FMTTYPE=image/jpeg:https://rossetorri.it/wp-content/uploads/2026/04
 /663149556_18350350006211608_5315135579680958897_n.jpg
CATEGORIES:Musica
LOCATION:Zac!\, Via Dora Baltea\, 40b\, Ivrea\, Italia
X-APPLE-STRUCTURED-LOCATION;VALUE=URI;X-ADDRESS=Via Dora Baltea\, 40b\, Ivr
 ea\, Italia;X-APPLE-RADIUS=100;X-TITLE=Zac!:geo:0,0
END:VEVENT
BEGIN:VTIMEZONE
TZID:Europe/Rome
X-LIC-LOCATION:Europe/Rome
BEGIN:DAYLIGHT
DTSTART:20260329T030000
TZOFFSETFROM:+0100
TZOFFSETTO:+0200
TZNAME:CEST
END:DAYLIGHT
END:VTIMEZONE
END:VCALENDAR