BEGIN:VCALENDAR
VERSION:2.0
PRODID:-//wp-events-plugin.com//7.2.3.1//EN
TZID:Europe/Rome
X-WR-TIMEZONE:Europe/Rome
BEGIN:VEVENT
UID:1180@rossetorri.it
DTSTART;TZID=Europe/Rome:20260425T153000
DTEND;TZID=Europe/Rome:20260425T153000
DTSTAMP:20260419T125115Z
URL:https://rossetorri.it/events/25-aprile-a-ivrea/
SUMMARY:25 aprile a Ivrea
DESCRIPTION:
ATTACH;FMTTYPE=image/jpeg:https://rossetorri.it/wp-content/uploads/2026/04
 /unnamed-4.jpg
CATEGORIES:Società
END:VEVENT
BEGIN:VTIMEZONE
TZID:Europe/Rome
X-LIC-LOCATION:Europe/Rome
BEGIN:DAYLIGHT
DTSTART:20260329T030000
TZOFFSETFROM:+0100
TZOFFSETTO:+0200
TZNAME:CEST
END:DAYLIGHT
END:VTIMEZONE
END:VCALENDAR