BEGIN:VCALENDAR
VERSION:2.0
PRODID:-//wp-events-plugin.com//7.2.3.1//EN
TZID:Europe/Rome
X-WR-TIMEZONE:Europe/Rome
BEGIN:VEVENT
UID:1181@rossetorri.it
DTSTART;TZID=Europe/Rome:20260501T190000
DTEND;TZID=Europe/Rome:20260501T190000
DTSTAMP:20260419T125441Z
URL:https://rossetorri.it/events/1-maggio/
SUMMARY:1° maggio
DESCRIPTION:Concerto del 1° maggio a Bellavista di Ivrea
ATTACH;FMTTYPE=image/jpeg:https://rossetorri.it/wp-content/uploads/2026/04
 /Primo-maggio-2026-Bellavista-Ivrea.jpeg
CATEGORIES:Musica
END:VEVENT
BEGIN:VTIMEZONE
TZID:Europe/Rome
X-LIC-LOCATION:Europe/Rome
BEGIN:DAYLIGHT
DTSTART:20260329T030000
TZOFFSETFROM:+0100
TZOFFSETTO:+0200
TZNAME:CEST
END:DAYLIGHT
END:VTIMEZONE
END:VCALENDAR